BEGIN:VCALENDAR
VERSION:2.0
PRODID:icalendar-ruby
CALSCALE:GREGORIAN
METHOD:PUBLISH
BEGIN:VEVENT
DTSTAMP:20260423T025710Z
UID:399-83168@coasthillschurch.com
DTSTART:20260510T173000Z
DTEND:20260510T183000Z
CLASS:PUBLIC
CREATED:20260422T140853
DESCRIPTION:Please join us on Sunday mornings at 10:30am!\nWe meet in perso
 n at AJ McLellan Elementary School - 16545 61st Avenue - Sunday mornings f
 or a time of worship and learning together. The last Sunday of every month
  we will not be meeting at AJ McLellan but invite everyone to our Ministry
  Centre - #108 17828 65A Avenue - you can learn more about our MC Sundays
  HERE\nEveryone is welcome and we hope to see you there!\n \nRecording of
  our services are also available on the website\, you can find them here 
 SERMON.\nPlease don't hesitate to contact the church office - office@coast
 hillschurch.com with any questions.
LAST-MODIFIED:20260422T140853
LOCATION:AJ McLellan Elementary School
SUMMARY:Coast Hills Sundays
URL;VALUE=URI:https://www.coasthillschurch.com/events/coast-hills-sundays/2
 026-05-10
ATTACH;FILENAME=Copy-of-Spring-2020.jpg;FMTTYPE=image/jpeg:https://dq5pwpg1
 q8ru0.cloudfront.net/2025/12/26/20/51/33/d9562358-f7fb-4835-8ff9-37ce17143
 4ce/Copy-of-Spring-2020.jpg
ATTACH;FILENAME=Prayer Guide Booklet.pdf;FMTTYPE=application/pdf:https://dq
 5pwpg1q8ru0.cloudfront.net/2022/08/02/12/34/59/0d40115e-b6ec-47e8-a928-163
 c755f8dd1/Prayer%20Guide%20Booklet.pdf
ATTACH;FILENAME=The Practice of Blessing of One Another.pdf;FMTTYPE=applica
 tion/pdf:https://dq5pwpg1q8ru0.cloudfront.net/2022/08/02/12/39/18/9db9009c
 -f666-4840-a776-1bf4dd36e61d/The%20Practice%20of%20Blessing%20of%20One%20A
 nother.pdf
ATTACH;FILENAME=A prayer for Inner Peace.pdf;FMTTYPE=application/pdf:https:
 //dq5pwpg1q8ru0.cloudfront.net/2022/12/05/06/52/43/c8e1f8fa-2dba-4862-a44d
 -87676fa85bef/A%20prayer%20for%20Inner%20Peace.pdf
END:VEVENT
END:VCALENDAR
